BEGIN:VCALENDAR
VERSION:2.0
PRODID:https://www.blende1fotoclub.com/modules/appointments/ics.php?ical=0&app=0
CALSCALE:GREGORIAN
X-MICROSOFT-CALSCALE:GREGORIAN
BEGIN:VEVENT
UID:28411420
DTSTART;TZID=UTC:20260505T173000
SEQUENCE:0
DTEND;TZID=UTC:20260505T200000
DTSTAMP:20260422T082805Z
LOCATION:Seybothstraße 31\, 81545 München
SUMMARY:RAW-Entwickler
CLASS:PUBLIC
DESCRIPTION:RAW Entwicklungsprogramme im Vergleich: Lightroom\, Capture One\, DxO &amp\; Co.  Ein gemeinsamer Austausch über Workflows\, Stärken und Schwächen verschiedener RAW?Konverter.Vorstellung der gängigen RAW?EntwicklungsprogrammeDiskussion über unterschiedliche BearbeitungsansätzeTipps &amp\; Tricks aus der PraxisVergleich von Funktionen\, Bedienkonzepten und BildqualitätRaum für Fragen\, Erfahrungen und persönliche EmpfehlungenGerne ein Notebook mit eigener Software und Beispielbildern mitbringen\, um individuelle Workflows oder Lösungen vorzustellen.Mit Julian Ziersch\n
END:VEVENT
BEGIN:VEVENT
UID:28411421
DTSTART;TZID=UTC:20260602T173000
SEQUENCE:0
DTEND;TZID=UTC:20260602T200000
DTSTAMP:20260422T082805Z
LOCATION:Seybothstraße 31\, 81545 München
SUMMARY:Projekt \"Irgendwo\" - Finale
CLASS:PUBLIC
DESCRIPTION:\n
END:VEVENT
BEGIN:VEVENT
UID:28411422
DTSTART;TZID=UTC:20260707T173000
SEQUENCE:0
DTEND;TZID=UTC:20260707T200000
DTSTAMP:20260422T082805Z
LOCATION:Seybothstraße 31\, 81545 München
SUMMARY:Projekt \"Blende 1 Charactere\" - Finale
CLASS:PUBLIC
DESCRIPTION:\n
END:VEVENT
BEGIN:VEVENT
UID:28411423
DTSTART;TZID=UTC:20260804T173000
SEQUENCE:0
DTEND;TZID=UTC:20260804T200000
DTSTAMP:20260422T082805Z
LOCATION:Seybothstraße 31\, 81545 München
SUMMARY:Kleiner Fotomarathon
CLASS:PUBLIC
DESCRIPTION:Spielregeln:Ihr bekommt drei Themen\, die ihr bearbeiten müsst.Jedes Thema muss einmal und in der vorgegebenen Reihenfolge fotografisch festgehalten werden. Sollte Euch ein Foto zu einem Thema nicht gefallen\, so könnt Ihr dieses natürlich wieder löschen (sofern ihr digital fotografiert). Fotografiert wird entweder digital im JPG-Format (kein RAW!) oder analog (in diesem Fall bitte Film selbst mitbringen). Ihr könnt die Bilder horizontal\, senkrecht oder diagonal aufnehmen. Jegliche Bearbeitungsfunktionen/Effekteinstellungen innerhalb der Kamera sind vor der Aufnahme zulässig.Präsentiert werden die Bilder dann auf unserer Homepage.Vergesst bitte eure Kamera nicht.\n
END:VEVENT
BEGIN:VEVENT
UID:28411424
DTSTART;TZID=UTC:20260901T173000
SEQUENCE:0
DTEND;TZID=UTC:20260901T200000
DTSTAMP:20260422T082805Z
LOCATION:Seybothstraße 31\, 81545 München
SUMMARY:Gemütliches Beisamensein im Biergarten
CLASS:PUBLIC
DESCRIPTION:\n
END:VEVENT
BEGIN:VEVENT
UID:28411425
DTSTART;TZID=UTC:20261006T173000
SEQUENCE:0
DTEND;TZID=UTC:20261006T200000
DTSTAMP:20260422T082805Z
LOCATION:Seybothstraße 31\, 81545 München
SUMMARY:Clubabend
CLASS:PUBLIC
DESCRIPTION:\n
END:VEVENT
BEGIN:VEVENT
UID:28411426
DTSTART;TZID=UTC:20261103T183000
SEQUENCE:0
DTEND;TZID=UTC:20261103T210000
DTSTAMP:20260422T082805Z
LOCATION:Seybothstraße 31\, 81545 München
SUMMARY:Clubabend
CLASS:PUBLIC
DESCRIPTION:\n
END:VEVENT
BEGIN:VEVENT
UID:28411427
DTSTART;TZID=UTC:20261201T183000
SEQUENCE:0
DTEND;TZID=UTC:20261201T210000
DTSTAMP:20260422T082805Z
LOCATION:Seybothstraße 31\, 81545 München
SUMMARY:Jahresplanung 2027
CLASS:PUBLIC
DESCRIPTION:\n
END:VEVENT
BEGIN:VEVENT
UID:28411432
DTSTART;TZID=UTC:20260519T173000
SEQUENCE:0
DTEND;TZID=UTC:20260519T190000
DTSTAMP:20260422T082805Z
LOCATION:Seybothstraße 31\, 81545 München
SUMMARY:Projekt \"Erinnerungen\" - Finale
CLASS:PUBLIC
DESCRIPTION:\n
END:VEVENT
BEGIN:VEVENT
UID:28411433
DTSTART;TZID=UTC:20260616T173000
SEQUENCE:0
DTEND;TZID=UTC:20260616T190000
DTSTAMP:20260422T082805Z
LOCATION:Seybothstraße 31\, 81545 München
SUMMARY:Nachbesprechung Analogfotografie
CLASS:PUBLIC
DESCRIPTION:\n
END:VEVENT
BEGIN:VEVENT
UID:28411434
DTSTART;TZID=UTC:20260721T173000
SEQUENCE:0
DTEND;TZID=UTC:20260721T190000
DTSTAMP:20260422T082805Z
LOCATION:Seybothstraße 31\, 81545 München
SUMMARY:Evaluierung \"Projekte\"
CLASS:PUBLIC
DESCRIPTION:\n
END:VEVENT
BEGIN:VEVENT
UID:28411435
DTSTART;TZID=UTC:20260818T173000
SEQUENCE:0
DTEND;TZID=UTC:20260818T190000
DTSTAMP:20260422T082805Z
LOCATION:Seybothstraße 31\, 81545 München
SUMMARY:Stadtteilspaziergang
CLASS:PUBLIC
DESCRIPTION:\n
END:VEVENT
BEGIN:VEVENT
UID:28411436
DTSTART;TZID=UTC:20260915T173000
SEQUENCE:0
DTEND;TZID=UTC:20260915T190000
DTSTAMP:20260422T082805Z
LOCATION:Seybothstraße 31\, 81545 München
SUMMARY:Besprechung der Bilder aus den Sommeraktionen
CLASS:PUBLIC
DESCRIPTION:\n
END:VEVENT
BEGIN:VEVENT
UID:28411437
DTSTART;TZID=UTC:20261020T173000
SEQUENCE:0
DTEND;TZID=UTC:20261020T190000
DTSTAMP:20260422T082805Z
LOCATION:Seybothstraße 31\, 81545 München
SUMMARY:Storm Chasing
CLASS:PUBLIC
DESCRIPTION:\nMit Dr. Michael Sachweh
END:VEVENT
BEGIN:VEVENT
UID:28411438
DTSTART;TZID=UTC:20261117T183000
SEQUENCE:0
DTEND;TZID=UTC:20261117T200000
DTSTAMP:20260422T082805Z
LOCATION:Seybothstraße 31\, 81545 München
SUMMARY:Clubabend
CLASS:PUBLIC
DESCRIPTION:\n
END:VEVENT
BEGIN:VEVENT
UID:28411439
DTSTART;TZID=UTC:20261215T183000
SEQUENCE:0
DTEND;TZID=UTC:20261215T210000
DTSTAMP:20260422T082805Z
LOCATION:Seybothstraße 31\, 81545 München
SUMMARY:Weihnachtsfeier
CLASS:PUBLIC
DESCRIPTION:\n
END:VEVENT
BEGIN:VEVENT
UID:28411464
DTSTART;VALUE=DATE:20260629
SEQUENCE:0
DTEND;VALUE=DATE:20260630
DTSTAMP:20260422T082805Z
X-MICROSOFT-CDO-ALLDAYEVENT:TRUE
SUMMARY:Abgabeschluss Freie Serien
CLASS:PUBLIC
DESCRIPTION:Jahresausstellung 2026\n\nThema der Ausstellung\n\nDie Ausstellung 2026 hat kein vorgegebenes Thema. Jede/r kann ein oder zwei Serien zu selbst gewählten Themen einreichen.\n\nZiele der Ausstellung\n\n\nAushängeschild unseres Clubs\nHaupt-Event mit intensiver Beteiligung vieler Mitglieder\nAnreiz sich intensiv mit einem Thema zu befassen und\neine möglichst gute Umsetzung zu erreichen\nDie photographische Weiterentwicklung zu fördern.\nWir wollen Bilder auszustellen\, die eine Botschaft\, eine Aussage vermitteln.\nDie Bilder dürfen auch durchaus Fragen aufwerfen.\nNur „schöne“ Bilder zu machen\, reicht nicht.\n\n\nAusstellungsort und -zeitraum\n\nVom 09. Oktober bis 1. November 2026 im Kulturzentrum ubo9\, Ubostraße 9\, 81245 München\n\nDie Vernissage ist für den 9. Oktober 2026 geplant.\n\nAblauf\n\nEs wird wieder ein kleines Kuratoren-Team aus drei Mitgliedern und zwei Vorständen geben\, das aus den eingereichten Bildern die finale Ausstellung zusammenstellt.\nDas Team wird auf eine konsistente\, aber dennoch breit aufgestellte Ausstellung in Bezug auf Themen\, Stile und Können achten.\n\nDas Auswahlverfahren ist kein Wettbewerb und soll auch kein Wettbewerb werden!\n\nBilddiskussion\n\nWer Bilder für die Ausstellung zur Diskussion stellen möchte\, kann das \nhier tun.\n\nIhr könnt dort auch Bilder von anderen Fotografen zum Thema einstellen. Die Seite ist nur intern zugreifbar\, nur dort gezeigte Bilder werden nicht veröffentlicht.\n\nDie eingestellten Bilder werden dann am nächsten Clubabend besprochen.Mitmachen\n
END:VEVENT
BEGIN:VEVENT
UID:28411474
DTSTART;TZID=UTC:20270105T183000
SEQUENCE:0
DTEND;TZID=UTC:20270105T210000
DTSTAMP:20260422T082805Z
LOCATION:Seybothstraße 31\, 81545 München
SUMMARY:Clubabend
CLASS:PUBLIC
DESCRIPTION:\n
END:VEVENT
BEGIN:VEVENT
UID:28411475
DTSTART;TZID=UTC:20270202T183000
SEQUENCE:0
DTEND;TZID=UTC:20270202T210000
DTSTAMP:20260422T082805Z
LOCATION:Seybothstraße 31\, 81545 München
SUMMARY:Clubabend
CLASS:PUBLIC
DESCRIPTION:\n
END:VEVENT
BEGIN:VEVENT
UID:28411476
DTSTART;TZID=UTC:20270302T183000
SEQUENCE:0
DTEND;TZID=UTC:20270302T210000
DTSTAMP:20260422T082805Z
LOCATION:Seybothstraße 31\, 81545 München
SUMMARY:Clubabend
CLASS:PUBLIC
DESCRIPTION:\n
END:VEVENT
BEGIN:VEVENT
UID:28411477
DTSTART;TZID=UTC:20270406T173000
SEQUENCE:0
DTEND;TZID=UTC:20270406T200000
DTSTAMP:20260422T082805Z
LOCATION:Seybothstraße 31\, 81545 München
SUMMARY:Clubabend
CLASS:PUBLIC
DESCRIPTION:\n
END:VEVENT
BEGIN:VEVENT
UID:28411478
DTSTART;TZID=UTC:20270504T173000
SEQUENCE:0
DTEND;TZID=UTC:20270504T200000
DTSTAMP:20260422T082805Z
LOCATION:Seybothstraße 31\, 81545 München
SUMMARY:Clubabend
CLASS:PUBLIC
DESCRIPTION:\n
END:VEVENT
BEGIN:VEVENT
UID:28411479
DTSTART;TZID=UTC:20270601T173000
SEQUENCE:0
DTEND;TZID=UTC:20270601T200000
DTSTAMP:20260422T082805Z
LOCATION:Seybothstraße 31\, 81545 München
SUMMARY:Clubabend
CLASS:PUBLIC
DESCRIPTION:\n
END:VEVENT
BEGIN:VEVENT
UID:28411480
DTSTART;TZID=UTC:20270706T173000
SEQUENCE:0
DTEND;TZID=UTC:20270706T200000
DTSTAMP:20260422T082805Z
LOCATION:Seybothstraße 31\, 81545 München
SUMMARY:Clubabend
CLASS:PUBLIC
DESCRIPTION:\n
END:VEVENT
BEGIN:VEVENT
UID:28411481
DTSTART;TZID=UTC:20270803T173000
SEQUENCE:0
DTEND;TZID=UTC:20270803T200000
DTSTAMP:20260422T082805Z
LOCATION:Seybothstraße 31\, 81545 München
SUMMARY:Clubabend
CLASS:PUBLIC
DESCRIPTION:\n
END:VEVENT
BEGIN:VEVENT
UID:28411482
DTSTART;TZID=UTC:20270907T173000
SEQUENCE:0
DTEND;TZID=UTC:20270907T200000
DTSTAMP:20260422T082805Z
LOCATION:Seybothstraße 31\, 81545 München
SUMMARY:Clubabend
CLASS:PUBLIC
DESCRIPTION:\n
END:VEVENT
BEGIN:VEVENT
UID:28411483
DTSTART;TZID=UTC:20271005T173000
SEQUENCE:0
DTEND;TZID=UTC:20271005T200000
DTSTAMP:20260422T082805Z
LOCATION:Seybothstraße 31\, 81545 München
SUMMARY:Clubabend
CLASS:PUBLIC
DESCRIPTION:\n
END:VEVENT
BEGIN:VEVENT
UID:28411484
DTSTART;TZID=UTC:20271102T183000
SEQUENCE:0
DTEND;TZID=UTC:20271102T210000
DTSTAMP:20260422T082805Z
LOCATION:Seybothstraße 31\, 81545 München
SUMMARY:Clubabend
CLASS:PUBLIC
DESCRIPTION:\n
END:VEVENT
BEGIN:VEVENT
UID:28411485
DTSTART;TZID=UTC:20271207T183000
SEQUENCE:0
DTEND;TZID=UTC:20271207T210000
DTSTAMP:20260422T082805Z
LOCATION:Seybothstraße 31\, 81545 München
SUMMARY:Clubabend
CLASS:PUBLIC
DESCRIPTION:\n
END:VEVENT
BEGIN:VEVENT
UID:28411486
DTSTART;TZID=UTC:20270119T183000
SEQUENCE:0
DTEND;TZID=UTC:20270119T210000
DTSTAMP:20260422T082805Z
LOCATION:Seybothstraße 31\, 81545 München
SUMMARY:Clubabend
CLASS:PUBLIC
DESCRIPTION:\n
END:VEVENT
BEGIN:VEVENT
UID:28411487
DTSTART;TZID=UTC:20270216T183000
SEQUENCE:0
DTEND;TZID=UTC:20270216T210000
DTSTAMP:20260422T082805Z
LOCATION:Seybothstraße 31\, 81545 München
SUMMARY:Clubabend
CLASS:PUBLIC
DESCRIPTION:\n
END:VEVENT
BEGIN:VEVENT
UID:28411488
DTSTART;TZID=UTC:20270316T183000
SEQUENCE:0
DTEND;TZID=UTC:20270316T210000
DTSTAMP:20260422T082805Z
LOCATION:Seybothstraße 31\, 81545 München
SUMMARY:Clubabend
CLASS:PUBLIC
DESCRIPTION:\n
END:VEVENT
BEGIN:VEVENT
UID:28411489
DTSTART;TZID=UTC:20270420T173000
SEQUENCE:0
DTEND;TZID=UTC:20270420T200000
DTSTAMP:20260422T082805Z
LOCATION:Seybothstraße 31\, 81545 München
SUMMARY:Clubabend
CLASS:PUBLIC
DESCRIPTION:\n
END:VEVENT
BEGIN:VEVENT
UID:28411490
DTSTART;TZID=UTC:20270518T173000
SEQUENCE:0
DTEND;TZID=UTC:20270518T200000
DTSTAMP:20260422T082805Z
LOCATION:Seybothstraße 31\, 81545 München
SUMMARY:Clubabend
CLASS:PUBLIC
DESCRIPTION:\n
END:VEVENT
BEGIN:VEVENT
UID:28411491
DTSTART;TZID=UTC:20270615T173000
SEQUENCE:0
DTEND;TZID=UTC:20270615T200000
DTSTAMP:20260422T082805Z
LOCATION:Seybothstraße 31\, 81545 München
SUMMARY:Clubabend
CLASS:PUBLIC
DESCRIPTION:\n
END:VEVENT
BEGIN:VEVENT
UID:28411492
DTSTART;TZID=UTC:20270720T173000
SEQUENCE:0
DTEND;TZID=UTC:20270720T200000
DTSTAMP:20260422T082805Z
LOCATION:Seybothstraße 31\, 81545 München
SUMMARY:Clubabend
CLASS:PUBLIC
DESCRIPTION:\n
END:VEVENT
BEGIN:VEVENT
UID:28411493
DTSTART;TZID=UTC:20270817T173000
SEQUENCE:0
DTEND;TZID=UTC:20270817T200000
DTSTAMP:20260422T082805Z
LOCATION:Seybothstraße 31\, 81545 München
SUMMARY:Clubabend
CLASS:PUBLIC
DESCRIPTION:\n
END:VEVENT
BEGIN:VEVENT
UID:28411494
DTSTART;TZID=UTC:20270921T173000
SEQUENCE:0
DTEND;TZID=UTC:20270921T200000
DTSTAMP:20260422T082805Z
LOCATION:Seybothstraße 31\, 81545 München
SUMMARY:Clubabend
CLASS:PUBLIC
DESCRIPTION:\n
END:VEVENT
BEGIN:VEVENT
UID:28411495
DTSTART;TZID=UTC:20271019T173000
SEQUENCE:0
DTEND;TZID=UTC:20271019T200000
DTSTAMP:20260422T082805Z
LOCATION:Seybothstraße 31\, 81545 München
SUMMARY:Clubabend
CLASS:PUBLIC
DESCRIPTION:\n
END:VEVENT
BEGIN:VEVENT
UID:28411496
DTSTART;TZID=UTC:20271116T183000
SEQUENCE:0
DTEND;TZID=UTC:20271116T210000
DTSTAMP:20260422T082805Z
LOCATION:Seybothstraße 31\, 81545 München
SUMMARY:Clubabend
CLASS:PUBLIC
DESCRIPTION:\n
END:VEVENT
BEGIN:VEVENT
UID:28411497
DTSTART;TZID=UTC:20271221T183000
SEQUENCE:0
DTEND;TZID=UTC:20271221T210000
DTSTAMP:20260422T082805Z
LOCATION:Seybothstraße 31\, 81545 München
SUMMARY:Clubabend
CLASS:PUBLIC
DESCRIPTION:\n
END:VEVENT
BEGIN:VEVENT
UID:28411510
DTSTART;VALUE=DATE:20261009
SEQUENCE:0
DTEND;VALUE=DATE:20261102
DTSTAMP:20260422T082805Z
X-MICROSOFT-CDO-ALLDAYEVENT:TRUE
LOCATION:Kulturzentrum ubo9
SUMMARY:Jahresausstellung
CLASS:PUBLIC
DESCRIPTION:\n
END:VEVENT
BEGIN:VEVENT
UID:28411511
DTSTART;TZID=UTC:20261009T170000
SEQUENCE:0
DTEND;TZID=UTC:20261009T190000
DTSTAMP:20260422T082805Z
LOCATION:Kulturzentrum ubo9
SUMMARY:Vernissage der Jahresausstellung
CLASS:PUBLIC
DESCRIPTION:\n
END:VEVENT
BEGIN:VEVENT
UID:28411512
DTSTART;VALUE=DATE:20260605
SEQUENCE:0
DTEND;VALUE=DATE:20260608
DTSTAMP:20260422T082805Z
X-MICROSOFT-CDO-ALLDAYEVENT:TRUE
SUMMARY:Workshop Analogfotografie
CLASS:PUBLIC
DESCRIPTION:Mit Thomas Findeisen\n
END:VEVENT
END:VCALENDAR